BEGIN:VCALENDAR
VERSION:2.0
PRODID:-//Regio Groningen-Assen - ECPv6.15.20//NONSGML v1.0//EN
CALSCALE:GREGORIAN
METHOD:PUBLISH
X-WR-CALNAME:Regio Groningen-Assen
X-ORIGINAL-URL:https://regiogroningenassen.nl
X-WR-CALDESC:Evenementen voor Regio Groningen-Assen
REFRESH-INTERVAL;VALUE=DURATION:PT1H
X-Robots-Tag:noindex
X-PUBLISHED-TTL:PT1H
BEGIN:VTIMEZONE
TZID:Europe/Amsterdam
BEGIN:DAYLIGHT
TZOFFSETFROM:+0100
TZOFFSETTO:+0200
TZNAME:CEST
DTSTART:20240331T010000
END:DAYLIGHT
BEGIN:STANDARD
TZOFFSETFROM:+0200
TZOFFSETTO:+0100
TZNAME:CET
DTSTART:20241027T010000
END:STANDARD
BEGIN:DAYLIGHT
TZOFFSETFROM:+0100
TZOFFSETTO:+0200
TZNAME:CEST
DTSTART:20250330T010000
END:DAYLIGHT
BEGIN:STANDARD
TZOFFSETFROM:+0200
TZOFFSETTO:+0100
TZNAME:CET
DTSTART:20251026T010000
END:STANDARD
BEGIN:DAYLIGHT
TZOFFSETFROM:+0100
TZOFFSETTO:+0200
TZNAME:CEST
DTSTART:20260329T010000
END:DAYLIGHT
BEGIN:STANDARD
TZOFFSETFROM:+0200
TZOFFSETTO:+0100
TZNAME:CET
DTSTART:20261025T010000
END:STANDARD
END:VTIMEZONE
BEGIN:VEVENT
DTSTART;TZID=Europe/Amsterdam:20251113T153000
DTEND;TZID=Europe/Amsterdam:20251113T170000
DTSTAMP:20260423T202453
CREATED:20250925T120249Z
LAST-MODIFIED:20251117T093246Z
UID:9388-1763047800-1763053200@regiogroningenassen.nl
SUMMARY:Economieborrel: de Toekomst van Werk
DESCRIPTION:De werkvloer verandert razendsnel. Digitale technologieën\, robots en slimme algoritmes nemen steeds meer taken over. Maar wat betekent dat voor ons als mensen? Welke rol blijft er nog over\, en hebben we daar eigenlijk nog invloed op? Of bepaalt de markt alles? \nTijdens de Economie-borrel op donderdagmiddag 13 november bespreken we samen deze belangrijke vragen. Lisa Herzog\, hoogleraar Politieke Filosofie aan de Rijksuniversiteit Groningen\, neemt ons mee in haar keynote over de toekomst van werk\, technologie en menselijke waardigheid. Haar werk op het snijvlak van politieke filosofie en economische theorie biedt interessante inzichten die je niet wilt missen! \nNa de keynote is er volop gelegenheid om na te praten en te netwerken tijdens de borrel. \n 
URL:https://regiogroningenassen.nl/evenementen/economieborrel-de-toekomst-van-werk-besloten-bijeenkomst/
LOCATION:Martinikerk Groningen\, Martinikerkhof 3\, Groningen
CATEGORIES:Evenement klein
ATTACH;FMTTYPE=image/jpeg:https://regiogroningenassen.nl/wp-content/uploads/2025/09/def-afbeelding-economieborrel-over-de-toekomst-van-werken-1.jpg
END:VEVENT
END:VCALENDAR