BEGIN:VCALENDAR
VERSION:2.0
PRODID:-//Regio Groningen-Assen - ECPv6.15.20//NONSGML v1.0//EN
CALSCALE:GREGORIAN
METHOD:PUBLISH
X-WR-CALNAME:Regio Groningen-Assen
X-ORIGINAL-URL:https://regiogroningenassen.nl
X-WR-CALDESC:Evenementen voor Regio Groningen-Assen
REFRESH-INTERVAL;VALUE=DURATION:PT1H
X-Robots-Tag:noindex
X-PUBLISHED-TTL:PT1H
BEGIN:VTIMEZONE
TZID:Europe/Amsterdam
BEGIN:DAYLIGHT
TZOFFSETFROM:+0100
TZOFFSETTO:+0200
TZNAME:CEST
DTSTART:20240331T010000
END:DAYLIGHT
BEGIN:STANDARD
TZOFFSETFROM:+0200
TZOFFSETTO:+0100
TZNAME:CET
DTSTART:20241027T010000
END:STANDARD
BEGIN:DAYLIGHT
TZOFFSETFROM:+0100
TZOFFSETTO:+0200
TZNAME:CEST
DTSTART:20250330T010000
END:DAYLIGHT
BEGIN:STANDARD
TZOFFSETFROM:+0200
TZOFFSETTO:+0100
TZNAME:CET
DTSTART:20251026T010000
END:STANDARD
BEGIN:DAYLIGHT
TZOFFSETFROM:+0100
TZOFFSETTO:+0200
TZNAME:CEST
DTSTART:20260329T010000
END:DAYLIGHT
BEGIN:STANDARD
TZOFFSETFROM:+0200
TZOFFSETTO:+0100
TZNAME:CET
DTSTART:20261025T010000
END:STANDARD
END:VTIMEZONE
BEGIN:VEVENT
DTSTART;TZID=Europe/Amsterdam:20251107T130000
DTEND;TZID=Europe/Amsterdam:20251107T140000
DTSTAMP:20260423T203000
CREATED:20251007T094853Z
LAST-MODIFIED:20251112T134617Z
UID:9505-1762520400-1762524000@regiogroningenassen.nl
SUMMARY:Lets Gro: een rechtvaardige Stad in een rechtvaardige Regio!
DESCRIPTION:Kom ook langs voor een inspirerende lezing\, tijdens Lets Gro\, over een urgent thema: een rechtvaardige Stad in een rechtvaardige Regio!\nEen lezing over nabijheid\, vertrouwen\, wederkerigheid en hoe gemeenschappen samen kunnen bouwen aan een rechtvaardige omgeving. \nWouter Veldhuis van Must Stedebouw neemt je mee in een boeiend verhaal over hoe we Groningen en de omliggende regio eerlijker en leefbaarder kunnen maken. Wethouder Kirsten Ipema van gemeente Noordenveld verzorgt de inleiding en begeleidt het gesprek met de zaal.  \nWe weten vaak wat niet eerlijk is: de nog altijd niet opgeloste aardbevingsschade in het Groninger land\, of het tekort aan betaalbare woningen. Maar wat is wél rechtvaardig? En hoe kan de inrichting van stad én regio daarbij helpen? \nWouter Veldhuis laat zien welke veranderingen onze samenleving nu doormaakt en wat dat betekent voor de manier waarop we steden en regio’s inrichten. Hij pleit voor een nieuwe samenwerking tussen overheid\, markt en inwoners. Zo krijgen mensen de ruimte om samen hun directe woonomgeving vorm te geven. Tegelijkertijd is een sterke overheid nodig die op regionaal niveau ervoor zorgt dat veranderingen in stad en regio beter op elkaar aansluiten. Aansluitend is er een nagesprek met wethouder Kirsten Ipema\, die reflecteert op de besproken thema’s en de rol van gemeente en regio bij het realiseren van een rechtvaardige stad en een rechtvaardige regio. Bezoekers krijgen de kans vragen te stellen en met elkaar in gesprek te gaan over de praktische vertaling van de ideeën. \nOver Wouter Veldhuis\nWouter Veldhuis is voormalig Rijksadviseur voor de Fysieke Leefomgeving en partner bij MUST stedebouw. Hij houdt zich bezig met de grote ruimtelijke vraagstukken van deze tijd\, zoals de woningbouwopgave\, de leefbaarheid van stad en regio\, en de manier waarop we samen rechtvaardige en toekomstbestendige omgevingen kunnen maken. Met zijn brede ervaring in stedelijke en regionale ontwikkeling weet hij ingewikkelde thema’s op een inspirerende en begrijpelijke manier te vertalen. \nOver Kirsten Ipema\nKirsten Ipema is wethouder in de gemeente Noordenveld en verantwoordelijk voor onder meer duurzaamheid\, wonen en welzijn. Vanuit die rol zet zij zich onder andere in voor leefbaarheid in de dorpen en voor een toekomstbestendige leefomgeving. Ook zet zij zich in voor versterking van regionale samenwerking. Als lid van de commissie Energie\, Klimaat\, Economie en Milieu van de Verenging Nederlandse Gemeenten is zij bijvoorbeeld bezig met het inrichten van energieregio’s om de samenwerking tussen rijk\, regio en gemeenten te stroomlijnen. \nAANMELDEN IS NIET NODIG!
URL:https://regiogroningenassen.nl/evenementen/een-rechtvaardige-stad-in-een-rechtvaardige-regio/
LOCATION:FORUM Groningen\, Rabozaal\, Nieuwe Markt 1\, Groningen\, Groningen\, 9712 KN\, Netherlands
CATEGORIES:Evenement groot,Evenement klein
ATTACH;FMTTYPE=image/png:https://regiogroningenassen.nl/wp-content/uploads/2024/12/afbeelding-uit-ontwikkelperspectief-novex-rga.png
END:VEVENT
END:VCALENDAR